BEGIN:VCALENDAR
VERSION:2.0
PRODID:-//Vancouver Writers Fest - ECPv6.15.18//NONSGML v1.0//EN
CALSCALE:GREGORIAN
METHOD:PUBLISH
X-ORIGINAL-URL:https://writersfest.bc.ca
X-WR-CALDESC:Events for Vancouver Writers Fest
REFRESH-INTERVAL;VALUE=DURATION:PT1H
X-Robots-Tag:noindex
X-PUBLISHED-TTL:PT1H
BEGIN:VTIMEZONE
TZID:America/Vancouver
BEGIN:DAYLIGHT
TZOFFSETFROM:-0800
TZOFFSETTO:-0700
TZNAME:PDT
DTSTART:20250309T100000
END:DAYLIGHT
BEGIN:STANDARD
TZOFFSETFROM:-0700
TZOFFSETTO:-0800
TZNAME:PST
DTSTART:20251102T090000
END:STANDARD
BEGIN:DAYLIGHT
TZOFFSETFROM:-0800
TZOFFSETTO:-0700
TZNAME:PDT
DTSTART:20260308T100000
END:DAYLIGHT
BEGIN:STANDARD
TZOFFSETFROM:-0700
TZOFFSETTO:-0800
TZNAME:PST
DTSTART:20261101T090000
END:STANDARD
BEGIN:DAYLIGHT
TZOFFSETFROM:-0800
TZOFFSETTO:-0700
TZNAME:PDT
DTSTART:20270314T100000
END:DAYLIGHT
BEGIN:STANDARD
TZOFFSETFROM:-0700
TZOFFSETTO:-0800
TZNAME:PST
DTSTART:20271107T090000
END:STANDARD
END:VTIMEZONE
BEGIN:VEVENT
DTSTART;TZID=America/Vancouver:20260526T193000
DTEND;TZID=America/Vancouver:20260526T210000
DTSTAMP:20260422T225154
CREATED:20260302T170534Z
LAST-MODIFIED:20260422T171928Z
UID:10000340-1779823800-1779829200@writersfest.bc.ca
SUMMARY:Carley Fortune in Conversation
DESCRIPTION:For years\, #1 New York Times bestselling author Carley Fortune was told that international readers weren’t interested in books with rural\, authentic Canadian settings. And ever since she published her first novel in 2022\, her meteoric success has told a different story. The Ontarian author’s swoonworthy romance novels have sold millions of copies\, and her captivating characters and lush descriptions of Canadian landscapes delight readers around the world. She joins the Vancouver Writers Fest for one night only with her latest book\, Our Perfect Storm (set in Tofino!)\, in conversation with her best friend\, Meredith Marino. \nEach ticket includes: \n\nAccess to an on-stage conversation and audience Q&A with Carley Fortune\nOne pre-signed copy of Our Perfect Storm (no personalization or signing of additional merchandise)\nAccess to a photo op with Carley Fortune!\n\nAbout the Book\nFrankie and George have been best friends since they were eight years old. Both passionate\, impulsive\, and headstrong—they’ve always clashed… and come back together. Until now. It’s the eve of Frankie’s wedding weekend\, and she doesn’t know where they stand or even if George will show up as her best man. \nThen\, at the start of the festivities\, in walks George. For one glorious evening\, surrounded by her loved ones\, Frankie’s life is finally perfect. But it all comes crashing down when her fiancé dumps her the next morning\, leaving only a note as an explanation. \nCrushed and confused\, Frankie returns to her family’s home to wallow. But George has a different idea and a plan for healing Frankie’s broken heart. He wants her to go on her honeymoon. With him. For one week\, to the lush rainforests and misty beaches of Tofino. \nFrankie agrees\, seeing the trip for what it really is: one last chance to repair their friendship. Even if it means unearthing secrets and long buried feelings neither knows how to handle. Even if it means falling apart for good. 
URL:https://writersfest.bc.ca/event/carley-fortune
LOCATION:Djavad Mowafaghian Cinema\, SFU Goldcorp Centre for the Arts\, 149 W Hastings St\, Vancouver
CATEGORIES:Special Event
ATTACH;FMTTYPE=image/jpeg:https://writersfest.bc.ca/wp-content/uploads/2026/03/2026_Carley-Fortune_banner.jpg
GEO:49.2846966;-123.1119349
X-APPLE-STRUCTURED-LOCATION;VALUE=URI;X-ADDRESS=Djavad Mowafaghian Cinema SFU Goldcorp Centre for the Arts 149 W Hastings St Vancouver;X-APPLE-RADIUS=500;X-TITLE=149 W Hastings St:geo:-123.1119349,49.2846966
END:VEVENT
END:VCALENDAR