BEGIN:VCALENDAR
VERSION:2.0
PRODID:-//Vancouver Writers Fest - ECPv6.15.18//NONSGML v1.0//EN
CALSCALE:GREGORIAN
METHOD:PUBLISH
X-WR-CALNAME:Vancouver Writers Fest
X-ORIGINAL-URL:https://writersfest.bc.ca
X-WR-CALDESC:Events for Vancouver Writers Fest
REFRESH-INTERVAL;VALUE=DURATION:PT1H
X-Robots-Tag:noindex
X-PUBLISHED-TTL:PT1H
BEGIN:VTIMEZONE
TZID:America/Vancouver
BEGIN:DAYLIGHT
TZOFFSETFROM:-0800
TZOFFSETTO:-0700
TZNAME:PDT
DTSTART:20210314T100000
END:DAYLIGHT
BEGIN:STANDARD
TZOFFSETFROM:-0700
TZOFFSETTO:-0800
TZNAME:PST
DTSTART:20211107T090000
END:STANDARD
BEGIN:DAYLIGHT
TZOFFSETFROM:-0800
TZOFFSETTO:-0700
TZNAME:PDT
DTSTART:20220313T100000
END:DAYLIGHT
BEGIN:STANDARD
TZOFFSETFROM:-0700
TZOFFSETTO:-0800
TZNAME:PST
DTSTART:20221106T090000
END:STANDARD
BEGIN:DAYLIGHT
TZOFFSETFROM:-0800
TZOFFSETTO:-0700
TZNAME:PDT
DTSTART:20230312T100000
END:DAYLIGHT
BEGIN:STANDARD
TZOFFSETFROM:-0700
TZOFFSETTO:-0800
TZNAME:PST
DTSTART:20231105T090000
END:STANDARD
BEGIN:DAYLIGHT
TZOFFSETFROM:-0800
TZOFFSETTO:-0700
TZNAME:PDT
DTSTART:20240310T100000
END:DAYLIGHT
BEGIN:STANDARD
TZOFFSETFROM:-0700
TZOFFSETTO:-0800
TZNAME:PST
DTSTART:20241103T090000
END:STANDARD
BEGIN:DAYLIGHT
TZOFFSETFROM:-0800
TZOFFSETTO:-0700
TZNAME:PDT
DTSTART:20250309T100000
END:DAYLIGHT
BEGIN:STANDARD
TZOFFSETFROM:-0700
TZOFFSETTO:-0800
TZNAME:PST
DTSTART:20251102T090000
END:STANDARD
BEGIN:DAYLIGHT
TZOFFSETFROM:-0800
TZOFFSETTO:-0700
TZNAME:PDT
DTSTART:20260308T100000
END:DAYLIGHT
BEGIN:STANDARD
TZOFFSETFROM:-0700
TZOFFSETTO:-0800
TZNAME:PST
DTSTART:20261101T090000
END:STANDARD
END:VTIMEZONE
BEGIN:VEVENT
DTSTART;TZID=America/Vancouver:20251115T193000
DTEND;TZID=America/Vancouver:20251115T210000
DTSTAMP:20260423T003231
CREATED:20250904T201303Z
LAST-MODIFIED:20250926T220732Z
UID:10000329-1763235000-1763240400@writersfest.bc.ca
SUMMARY:Chris Hadfield in Conversation with André Picard
DESCRIPTION:Presented in partnership with Book Warehouse\, and with the support of Penguin Random House Canada and SFU. \nTickets for this event include a copy of Final Orbit (a value of $39).  \nA veteran of three space flights\, capsule communicator for 25 shuttle missions\, and former commander of the International Space Station\, Chris Hadfield is one of the most seasoned and accomplished astronauts in the world. He’s since turned his talents and experience to writing works of both fiction and nonfiction that bookstores can hardly keep on the shelves. His internationally bestselling books have topped the charts for months in Canada. Hadfield joins us in Vancouver with his new interstellar thriller\, Final Orbit\, probing China’s secret role in the 1970s Space Race between the US and the USSR. \nFull of intrigue and real history\, Final Orbit captures with heart-palpitating clarity the beauty and terror of survival 270 miles above Earth. This novel could only be written by one of the most experienced astronauts alive. Don’t miss this chance to hear Hadfield in conversation about his journeys to the stars with moderator André Picard\, both on and off the page.
URL:https://writersfest.bc.ca/event/chris-hadfield
LOCATION:Djavad Mowafaghian Cinema\, SFU Goldcorp Centre for the Arts\, 149 W Hastings St\, Vancouver
CATEGORIES:Special Event
ATTACH;FMTTYPE=image/jpeg:https://writersfest.bc.ca/wp-content/uploads/2025/08/2025_Chris-Hadfield_social-banner.jpg
GEO:49.2846966;-123.1119349
X-APPLE-STRUCTURED-LOCATION;VALUE=URI;X-ADDRESS=Djavad Mowafaghian Cinema SFU Goldcorp Centre for the Arts 149 W Hastings St Vancouver;X-APPLE-RADIUS=500;X-TITLE=149 W Hastings St:geo:-123.1119349,49.2846966
END:VEVENT
BEGIN:VEVENT
DTSTART;TZID=America/Vancouver:20241117T190000
DTEND;TZID=America/Vancouver:20241117T203000
DTSTAMP:20260423T003231
CREATED:20241120T200253Z
LAST-MODIFIED:20241120T223441Z
UID:10000297-1731870000-1731875400@writersfest.bc.ca
SUMMARY:Matty Matheson: Soups\, Salads\, Sandwiches
DESCRIPTION:This event is sold out.\nInnovative takes on kitchen staples\, from a Canadian culinary icon? Yes\, Chef! The Vancouver Writers Fest is delighted to present Matty Matheson—restaurateur\, New York Times bestselling author\, and executive producer and actor on FX’s The Bear—with a new cookbook that redefines cooking’s iconic trinity: soups\, salads\, and sandwiches.  \nThis trio makes up so many of our meals\, but is rarely given the attention it deserves—until now. Matty Matheson\, known for the bold flavours that he shares in his restaurants as well as with his 1.5 million YouTube subscribers\, has created a cookbook that will revolutionize how you think of these kitchen basics. He brings his larger-than-life personality to this entertaining evening of laughs\, stories\, and scrumptious recipes\, in conversation with Global News Anchor Sophie Lui. \nTickets come with a pre-signed copy of Matty Matheson: Soups\, Salads\, Sandwiches\, so you can live out your own chef dreams in the kitchen.
URL:https://writersfest.bc.ca/event/matty-matheson
LOCATION:Djavad Mowafaghian Cinema\, SFU Goldcorp Centre for the Arts\, 149 W Hastings St\, Vancouver
CATEGORIES:Special Event
ATTACH;FMTTYPE=image/jpeg:https://writersfest.bc.ca/wp-content/uploads/2024/09/2024_Matty-Matheson_social-banner-1.jpg
GEO:49.2846966;-123.1119349
X-APPLE-STRUCTURED-LOCATION;VALUE=URI;X-ADDRESS=Djavad Mowafaghian Cinema SFU Goldcorp Centre for the Arts 149 W Hastings St Vancouver;X-APPLE-RADIUS=500;X-TITLE=149 W Hastings St:geo:-123.1119349,49.2846966
END:VEVENT
BEGIN:VEVENT
DTSTART;TZID=America/Vancouver:20240918T193000
DTEND;TZID=America/Vancouver:20240918T210000
DTSTAMP:20260423T003231
CREATED:20240808T200014Z
LAST-MODIFIED:20240812T230131Z
UID:10000292-1726687800-1726693200@writersfest.bc.ca
SUMMARY:Liane Moriarty in Conversation with Eddy Boudel Tan
DESCRIPTION:Australian author Liane Moriarty has a gift for writing smart\, sensational page-turners that have the entertainment industry waiting on speed dial. Her novel Big Little Lies was the inspiration behind the HBO limited series that won eight Emmy Awards; Nine Perfect Strangers and Apples Never Fall were also turned into star-studded TV adaptations. She joins us in Vancouver to launch Here One Moment\, a riveting new novel that follows a group of passengers on a seemingly ordinary domestic flight\, who learn how and when they are going to die. If you knew your future\, would you try to fight fate?   \nA modern-day Jane Austen\, Moriarty asks profound questions and humorously skewers social mores\, while spinning a web of mystery. She speaks with Eddy Boudel Tan at the Djavad Mowafaghian Cinema\, followed by an audience Q&A and signing.  \nBooks can be purchased during check-out\, or at the event\, courtesy of Book Warehouse. \nYouth under 25 can purchase a discounted ticket for $20! \n\nVancouver Writers Fest is proud to recognize SFU as a cultural partner.
URL:https://writersfest.bc.ca/event/liane-moriarty
LOCATION:Djavad Mowafaghian Cinema\, SFU Goldcorp Centre for the Arts\, 149 W Hastings St\, Vancouver
CATEGORIES:Special Event,Theatre
ATTACH;FMTTYPE=image/jpeg:https://writersfest.bc.ca/wp-content/uploads/2024/08/2024_Liane-Moriarty_social-banner.jpg
GEO:49.2846966;-123.1119349
X-APPLE-STRUCTURED-LOCATION;VALUE=URI;X-ADDRESS=Djavad Mowafaghian Cinema SFU Goldcorp Centre for the Arts 149 W Hastings St Vancouver;X-APPLE-RADIUS=500;X-TITLE=149 W Hastings St:geo:-123.1119349,49.2846966
END:VEVENT
BEGIN:VEVENT
DTSTART;TZID=America/Vancouver:20240501T193000
DTEND;TZID=America/Vancouver:20240501T210000
DTSTAMP:20260423T003231
CREATED:20240320T160034Z
LAST-MODIFIED:20240325T221147Z
UID:10000285-1714591800-1714597200@writersfest.bc.ca
SUMMARY:Wade Davis in Conversation
DESCRIPTION:Presented in partnership with SFU Woodward’s Cultural Programs.\n\n\n\nTravel into the heart of humanity with one of the foremost thinkers of our time. Wade Davis’s awe-inspiring career includes being the renowned author of 23 books\, Professor of Anthropology\, Member of the Order of Canada\, and former Explorer-in-Residence at the National Geographic Society. He joins the Vancouver Writers Fest with a new collection that dives into a timely and eclectic array of topics from across the planet.  \nThe essays in Beneath the Surface of Things came about during the unhurried months when one who had traveled incessantly was obliged to stay still\, even as events flared on all sides in a world that never stops moving. Davis brings his unique cultural perspective to such varied topics as the demonization of coca\, the sacred plant of the Inca; the Great War and the birth of modernity; the unraveling of America; reaching beyond climate fear and trepidation; and the meaning of the sacred.  \nDescribed as a “true wayfinder” (John Vaillant) and “fearless explorer in the intellectual world\, as in the physical” (Washington Post)\, Davis is sure to ignite your curiosity. He speaks with award-winning journalist Laura Lynch\, host of CBC’s What On Earth. \nBooks will be for sale at the event courtesy of Upstart & Crow.
URL:https://writersfest.bc.ca/event/wade-davis
LOCATION:Djavad Mowafaghian Cinema\, SFU Goldcorp Centre for the Arts\, 149 W Hastings St\, Vancouver
CATEGORIES:Special Event,Theatre
ATTACH;FMTTYPE=image/jpeg:https://writersfest.bc.ca/wp-content/uploads/2024/03/2024_Wade-Davis_social-banner-1.jpg
GEO:49.2846966;-123.1119349
X-APPLE-STRUCTURED-LOCATION;VALUE=URI;X-ADDRESS=Djavad Mowafaghian Cinema SFU Goldcorp Centre for the Arts 149 W Hastings St Vancouver;X-APPLE-RADIUS=500;X-TITLE=149 W Hastings St:geo:-123.1119349,49.2846966
END:VEVENT
BEGIN:VEVENT
DTSTART;TZID=America/Vancouver:20230522T193000
DTEND;TZID=America/Vancouver:20230522T210000
DTSTAMP:20260423T003231
CREATED:20230320T180847Z
LAST-MODIFIED:20230505T221112Z
UID:10000250-1684783800-1684789200@writersfest.bc.ca
SUMMARY:R. F. Kuang in Conversation with Eddy Boudel Tan
DESCRIPTION:SOLD OUT\nPart of the Vancouver Writers Fest Bestsellers Series\n\n\n\n\n\n\n\n\nThis event is presented in partnership with Massy Books and SFU Woodward’s Cultural Programs. \nRebecca F. Kuang shot to #1 on the New York Times bestsellers list with her previous novels Babel and the Poppy War Trilogy. She joins the Vancouver Writers Fest\, Massy Books\, and SFU Woodward’s Cultural Programs with her new literary thriller\, Yellowface—a timely and cutting satire that investigates racism in the publishing industry and beyond\, with razor-sharp precision. She’ll speak with Eddy Boudel Tan\, a Writers’ Trust of Canada’s Rising Star\, about cultural appropriation\, the erasure of Asian-American voices\, and her own literary career. \nWhat would you steal for success? When June Hayward—Yellowface’s deceptive first-person narrator—witnesses the death of fellow writer Athena Liu in a freak accident\, she steals Athena’s manuscript and publishes it under her own name; or rather\, her new identity as Juniper Song\, complete with an ambiguously ethnic author photo. But as damning evidence emerges\, June must race to escape the deadly consequences\, and keep what she believes she deserves. Unflinching in its gaze\, this brilliant book is “a must read commentary on the line between representation and exploitation.” —Vaishnavi Patel\, author of Kaikeyi    \nBooks will be for sale at the event courtesy of Massy Books\, or order a book with your ticket at a discounted rate! The pre-sale will be limited to 2 copies per purchase\, and books can be picked up at the event. R. F. Kuang will be signing books after the event! \nThis event is part of the Vancouver Writers Fest Bestsellers Series\, a spring fundraising series bringing some of the biggest names in literature to Vancouver. Buying a ticket not only gives you an opportunity to hear from some of the most celebrated authors in the world; it supports the Vancouver Writers Fest in programming our flagship Festival later this year. Click here to explore the full lineup.  \n\nStandard tickets: $35\nYouth under 25: $20
URL:https://writersfest.bc.ca/event/rf-kuang-bestsellers
LOCATION:Djavad Mowafaghian Cinema\, SFU Goldcorp Centre for the Arts\, 149 W Hastings St\, Vancouver
CATEGORIES:Special Event,Bestsellers Series
ATTACH;FMTTYPE=image/jpeg:https://writersfest.bc.ca/wp-content/uploads/2023/03/Bestsellers_Kuang_web-banner-2.jpg
GEO:49.2846966;-123.1119349
X-APPLE-STRUCTURED-LOCATION;VALUE=URI;X-ADDRESS=Djavad Mowafaghian Cinema SFU Goldcorp Centre for the Arts 149 W Hastings St Vancouver;X-APPLE-RADIUS=500;X-TITLE=149 W Hastings St:geo:-123.1119349,49.2846966
END:VEVENT
BEGIN:VEVENT
DTSTART;TZID=America/Vancouver:20221111T193000
DTEND;TZID=America/Vancouver:20221111T210000
DTSTAMP:20260423T003231
CREATED:20221028T001842Z
LAST-MODIFIED:20221102T181645Z
UID:10000157-1668195000-1668200400@writersfest.bc.ca
SUMMARY:Ian Rankin in Conversation
DESCRIPTION:The long wait is over: John Rebus\, detective inspector and the central protagonist of Edgar Award and Diamond Dagger recipient Ian Rankin’s acclaimed series\, is back this fall in A Heart Full of Headstones. In this 24th book in the now televised series\, Rankin brings new intrigue and suspense to the dark of Edinburgh\, in what Publishers Weekly is calling “one of his best Rebus novels in years.” He’ll be joined by local detective writer and Juno-nominated comedian Charles Demers for an evening discussing the craft of sleuths\, scandals\, and (of course) murder. \n\nThis event is presented in partnership with SFU Woodward’s Cultural Programs.
URL:https://writersfest.bc.ca/event/ian-rankin
LOCATION:Djavad Mowafaghian Cinema\, SFU Goldcorp Centre for the Arts\, 149 W Hastings St\, Vancouver
CATEGORIES:Special Event,Theatre
GEO:49.2846966;-123.1119349
X-APPLE-STRUCTURED-LOCATION;VALUE=URI;X-ADDRESS=Djavad Mowafaghian Cinema SFU Goldcorp Centre for the Arts 149 W Hastings St Vancouver;X-APPLE-RADIUS=500;X-TITLE=149 W Hastings St:geo:-123.1119349,49.2846966
END:VEVENT
BEGIN:VEVENT
DTSTART;TZID=America/Vancouver:20220914T193000
DTEND;TZID=America/Vancouver:20220914T210000
DTSTAMP:20260423T003231
CREATED:20220812T212407Z
LAST-MODIFIED:20220815T215558Z
UID:10000156-1663183800-1663189200@writersfest.bc.ca
SUMMARY:Namwayut—We Are All One: A Pathway to Reconciliation
DESCRIPTION:Presented in partnership with Massy Books and Raincoast Books.\n \nA Special Celebration with Chief Robert Joseph\nWe all share a common humanity. No matter how long or difficult the path ahead\, we are all one. In Namwayut\, Chief Robert Joseph\, globally recognized peacebuilder and Hereditary Chief of the Gwawaenuk People\, traces his journey from his childhood surviving residential school to his present-day role as a leader who inspires individual hope\, collective change\, and global transformation. His dedication to reconciliation has been recognized with multiple honorary degrees and awards. In this momentous event\, Vancouver Writers Fest invites our community to celebrate Chief Joseph’s legacy\, advocacy\, and wisdom on the eve of his 83rd birthday\, in conversation with his collaborator\, Lisa Thomas-Tench. \nPay-What-You-Can options are available for this event. Receive 10% off the retail price of Namwayut at this event\, courtesy of Massy Books\, who will be providing on-site sales.
URL:https://writersfest.bc.ca/event/namwayut
LOCATION:Djavad Mowafaghian Cinema\, SFU Goldcorp Centre for the Arts\, 149 W Hastings St\, Vancouver
CATEGORIES:Special Event,Theatre
GEO:49.2846966;-123.1119349
X-APPLE-STRUCTURED-LOCATION;VALUE=URI;X-ADDRESS=Djavad Mowafaghian Cinema SFU Goldcorp Centre for the Arts 149 W Hastings St Vancouver;X-APPLE-RADIUS=500;X-TITLE=149 W Hastings St:geo:-123.1119349,49.2846966
END:VEVENT
BEGIN:VEVENT
DTSTART;TZID=America/Vancouver:20220628T193000
DTEND;TZID=America/Vancouver:20220628T210000
DTSTAMP:20260423T003231
CREATED:20220427T233004Z
LAST-MODIFIED:20220527T235606Z
UID:10000238-1656444600-1656450000@writersfest.bc.ca
SUMMARY:Run Towards the Danger with Sarah Polley
DESCRIPTION:This event has been rescheduled for Tuesday\, June 28 at 7:30pm.\n \nPresented in partnership with VIFF.\n \nCanadian writer\, director\, and Academy Award-nominated actor Sarah Polley joins the Vancouver Writers Fest in celebration of her evocative release\, Run Towards the Danger. A complex and exquisite collection of essays\, the book captures keystone moments in Polley’s life\, as well as the “fallibility of memory\, the mutability of reality in the mind\, and the possibility of experiencing the past anew\, as the person you are now but were not then.” \nWell-known for her role in the miniseries for Margaret Atwood’s novel Alias Grace (2017)\, her directorial debut Away from Her (2006)\, and her Oscar-nominated adapted screenplay for Alice Munro’s “The Bear Came Over the Mountain\,” Polley’s Hollywood credentials are significant and trail-blazing. \nRun Towards the Danger is her dialogue between her past and present\, exploring what it is to live in a body which is constantly becoming\, learning\, and changing. “These are the most dangerous stories of my life\,” says Polley. “The ones I have avoided\, the ones I haven’t told\, the ones that have kept me awake on countless nights. As these stories found echoes in my adult life\, and then went another\, better way than they did in childhood\, they became lighter and easier to carry.” \nJoin us for a dazzling special event on June 28 as Sarah Polley sits down with Vancouver Writers Fest Artistic Director Leslie Hurtig for an intimate\, one-on-one conversation. \nPrices include all taxes and fees. \nCopies of Run Towards the Danger will be on sale at the event thanks to our bookseller\, Book Warehouse. This event is in-person\, and will be located at the Djavad Mowafaghian Cinema at Goldcorp Centre for the Arts in downtown Vancouver. Parking information is available here. \nThe Vancouver Writers Fest requires masks be worn indoors at all times for this event. Face masks continue to offer assurance and safety for many of the communities the VWF serves. We thank you for your understanding and consideration.
URL:https://writersfest.bc.ca/event/sarah-polley
LOCATION:Djavad Mowafaghian Cinema\, SFU Goldcorp Centre for the Arts\, 149 W Hastings St\, Vancouver
CATEGORIES:Special Event,Theatre
GEO:49.2846966;-123.1119349
X-APPLE-STRUCTURED-LOCATION;VALUE=URI;X-ADDRESS=Djavad Mowafaghian Cinema SFU Goldcorp Centre for the Arts 149 W Hastings St Vancouver;X-APPLE-RADIUS=500;X-TITLE=149 W Hastings St:geo:-123.1119349,49.2846966
END:VEVENT
END:VCALENDAR